BEGIN:VCALENDAR
VERSION:2.0
PRODID:-//HJF - ECPv4.9.2//NONSGML v1.0//EN
CALSCALE:GREGORIAN
METHOD:PUBLISH
X-WR-CALNAME:HJF
X-ORIGINAL-URL:http://happyjoyousandfreewheeling.org
X-WR-CALDESC:Events for HJF
BEGIN:VEVENT
DTSTART;VALUE=DATE:20160321
DTEND;VALUE=DATE:20160322
DTSTAMP:20260422T095037
CREATED:20160203T194537Z
LAST-MODIFIED:20160331T013508Z
UID:436-1458518400-1458604799@happyjoyousandfreewheeling.org
SUMMARY:Community Connections Bike Mechanics Training
DESCRIPTION:\n                            \n                                \n                            \n                        Partnering with Community Connections Work together/WIN together program\, participants learn bike mechanics and become eligible for internships at area bike shops.\nParticipation is arranged through Community Connections. \n
URL:http://happyjoyousandfreewheeling.org/index.php/event/community-connections-bike-mechanics-training-2016-03-21/
CATEGORIES:Internship Training
END:VEVENT
END:VCALENDAR