BEGIN:VCALENDAR
VERSION:2.0
PRODID:-//HJF - ECPv4.9.2//NONSGML v1.0//EN
CALSCALE:GREGORIAN
METHOD:PUBLISH
X-WR-CALNAME:HJF
X-ORIGINAL-URL:http://happyjoyousandfreewheeling.org
X-WR-CALDESC:Events for HJF
BEGIN:VEVENT
DTSTART;TZID=America/New_York:20151022T190000
DTEND;TZID=America/New_York:20151022T200000
DTSTAMP:20260422T094017
CREATED:20151014T222700Z
LAST-MODIFIED:20151014T222700Z
UID:364-1445540400-1445544000@happyjoyousandfreewheeling.org
SUMMARY:Free Basic Bicycle Maintenance Class
DESCRIPTION:\n                            \n                                \n                            \n                        Learn the basic maintenance tips that will keep your bike running smoothly between tune-ups.  Best of all\, it’s FREE. \nWe will cover: \n\nTire inflation/selection\nCleaning/lubricating the chain\nOperation of quick release wheels\nInspection of the brakes\nInspection of bearing surfaces\nCable lubrication\nMinor brake adjustments\nMinor shifting adjustments\nChecking critical fasteners\n\nThis class will be largely show and tell\, but will try to get hands-ON as time allows\, so dress to get dirty. \nCall or e-mail with any questions \npapilloncycles@gmail.com \n703.920.9494 \n
URL:http://happyjoyousandfreewheeling.org/index.php/event/free-basic-bicycle-maintenance-class/
LOCATION:Papillon Cycles\, 2805 Columbia Pike\, Arlington \, VA\, 22204\, United States
GEO:38.8627759;-77.086723
X-APPLE-STRUCTURED-LOCATION;VALUE=URI;X-ADDRESS=Papillon Cycles 2805 Columbia Pike Arlington  VA 22204 United States;X-APPLE-RADIUS=500;X-TITLE=2805 Columbia Pike:geo:-77.086723,38.8627759
CATEGORIES:Workshop
ATTACH;FMTTYPE=image/png:http://happyjoyousandfreewheeling.org/wp-content/uploads/2015/05/LogoPapillionCycles.png
END:VEVENT
END:VCALENDAR