BEGIN:VCALENDAR
VERSION:2.0
PRODID:-//HJF - ECPv4.9.2//NONSGML v1.0//EN
CALSCALE:GREGORIAN
METHOD:PUBLISH
X-WR-CALNAME:HJF
X-ORIGINAL-URL:http://happyjoyousandfreewheeling.org
X-WR-CALDESC:Events for HJF
BEGIN:VEVENT
DTSTART;TZID=America/New_York:20150924T190000
DTEND;TZID=America/New_York:20150924T200000
DTSTAMP:20260422T112249
CREATED:20150922T172718Z
LAST-MODIFIED:20150922T172734Z
UID:353-1443121200-1443124800@happyjoyousandfreewheeling.org
SUMMARY:FREE Bicycle Tire Changing Class at Papillion Cycles
DESCRIPTION:\n                            \n                                \n                            \n                         \nFlats happen. David will teach everything you need to know to fix them quickly on the road and be on your way. \nUse the link to register in advance\, or just show up. \n
URL:http://happyjoyousandfreewheeling.org/index.php/event/free-bicycle-tire-changing-class-at-papillion-cycles/
LOCATION:Papillon Cycles\, 2805 Columbia Pike\, Arlington \, VA\, 22204\, United States
GEO:38.8627759;-77.086723
X-APPLE-STRUCTURED-LOCATION;VALUE=URI;X-ADDRESS=Papillon Cycles 2805 Columbia Pike Arlington  VA 22204 United States;X-APPLE-RADIUS=500;X-TITLE=2805 Columbia Pike:geo:-77.086723,38.8627759
CATEGORIES:Workshop
END:VEVENT
END:VCALENDAR