BEGIN:VCALENDAR
VERSION:2.0
PRODID:-//HJF - ECPv4.9.2//NONSGML v1.0//EN
CALSCALE:GREGORIAN
METHOD:PUBLISH
X-WR-CALNAME:HJF
X-ORIGINAL-URL:http://happyjoyousandfreewheeling.org
X-WR-CALDESC:Events for HJF
BEGIN:VEVENT
DTSTART;TZID=America/New_York:20170411T170000
DTEND;TZID=America/New_York:20170411T203000
DTSTAMP:20260422T061422
CREATED:20170403T232619Z
LAST-MODIFIED:20170403T232619Z
UID:910-1491930000-1491942600@happyjoyousandfreewheeling.org
SUMMARY:Fundraiser at Slash Run
DESCRIPTION:\n                            \n                                \n                            \n                        Join HJF for fun and good times at Slash Run bar DC on Tuesday\, April 11th\, 5 to 8:30 pm. \nAll proceeds will go to the development of HJF’s STEM program. This program helps students from local DC schools understand the Science\, Technology Engineering and Mathematics of bike maintenance. This program also is an addition to the job development and placement program for HJF. \nAddress: 201 Upshur St NW Washington\, DC 20011 \n
URL:http://happyjoyousandfreewheeling.org/index.php/event/fundraiser-slash-run/
LOCATION:Slash Run Bar\, 201 Upshur St NW\, Washington\, DC\, 20011\, United States
GEO:38.9424138;-77.0138611
X-APPLE-STRUCTURED-LOCATION;VALUE=URI;X-ADDRESS=Slash Run Bar 201 Upshur St NW Washington DC 20011 United States;X-APPLE-RADIUS=500;X-TITLE=201 Upshur St NW:geo:-77.0138611,38.9424138
CATEGORIES:Fundraiser
ORGANIZER;CN="HJF%20Wheeling":MAILTO:david@hjfw.org
END:VEVENT
END:VCALENDAR