BEGIN:VCALENDAR
VERSION:2.0
PRODID:-//HJF - ECPv4.9.2//NONSGML v1.0//EN
CALSCALE:GREGORIAN
METHOD:PUBLISH
X-WR-CALNAME:HJF
X-ORIGINAL-URL:http://happyjoyousandfreewheeling.org
X-WR-CALDESC:Events for HJF
BEGIN:VEVENT
DTSTART;TZID=America/New_York:20150917T190000
DTEND;TZID=America/New_York:20150917T200000
DTSTAMP:20260422T112027
CREATED:20150831T140653Z
LAST-MODIFIED:20150831T190457Z
UID:315-1442516400-1442520000@happyjoyousandfreewheeling.org
SUMMARY:Learn how to fix your gears - FREE CLASS
DESCRIPTION:\n                            \n                                \n                            \n                        Join David and Brian for this practical and fun hands-on class.  Use the link to register\, or just show up. \n
URL:http://happyjoyousandfreewheeling.org/index.php/event/learn-how-to-fix-your-gears-free-class-2/
LOCATION:Papillon Cycles\, 2805 Columbia Pike\, Arlington \, VA\, 22204\, United States
GEO:38.8627759;-77.086723
X-APPLE-STRUCTURED-LOCATION;VALUE=URI;X-ADDRESS=Papillon Cycles 2805 Columbia Pike Arlington  VA 22204 United States;X-APPLE-RADIUS=500;X-TITLE=2805 Columbia Pike:geo:-77.086723,38.8627759
CATEGORIES:Workshop
END:VEVENT
END:VCALENDAR