BEGIN:VCALENDAR
VERSION:2.0
PRODID:-//HJF - ECPv4.9.2//NONSGML v1.0//EN
CALSCALE:GREGORIAN
METHOD:PUBLISH
X-WR-CALNAME:HJF
X-ORIGINAL-URL:http://happyjoyousandfreewheeling.org
X-WR-CALDESC:Events for HJF
BEGIN:VEVENT
DTSTART;TZID=America/New_York:20150528T190000
DTEND;TZID=America/New_York:20150528T190000
DTSTAMP:20260422T111641
CREATED:20150525T193027Z
LAST-MODIFIED:20150528T002229Z
UID:272-1432839600-1432839600@happyjoyousandfreewheeling.org
SUMMARY:Learn to fix a flat
DESCRIPTION:\n                            \n                                \n                            \n                         \nPretty simple:  You learn how to change a flat tire by doing it yourself.  Expert guidance is available from Brian and David.  Dress to get dirty\, this class is hands ON! \n
URL:http://happyjoyousandfreewheeling.org/index.php/event/learn-to-fix-a-flat/
LOCATION:Papillon Cycles\, 2805 Columbia Pike\, Arlington \, VA\, 22204\, United States
GEO:38.8627759;-77.086723
X-APPLE-STRUCTURED-LOCATION;VALUE=URI;X-ADDRESS=Papillon Cycles 2805 Columbia Pike Arlington  VA 22204 United States;X-APPLE-RADIUS=500;X-TITLE=2805 Columbia Pike:geo:-77.086723,38.8627759
CATEGORIES:Workshop
END:VEVENT
END:VCALENDAR