BEGIN:VCALENDAR
VERSION:2.0
PRODID:-//HJF - ECPv4.9.2//NONSGML v1.0//EN
CALSCALE:GREGORIAN
METHOD:PUBLISH
X-WR-CALNAME:HJF
X-ORIGINAL-URL:http://happyjoyousandfreewheeling.org
X-WR-CALDESC:Events for HJF
BEGIN:VEVENT
DTSTART;TZID=America/New_York:20170506T110000
DTEND;TZID=America/New_York:20170506T160000
DTSTAMP:20260422T063623
CREATED:20170428T020444Z
LAST-MODIFIED:20170428T020740Z
UID:941-1494068400-1494086400@happyjoyousandfreewheeling.org
SUMMARY:HJF at Montgomery County Green Fest
DESCRIPTION:\n                            \n                                \n                            \n                        \nCome Visit HJF at Montgomery County Green Fest May 6th! This year\, the focus of Green Fest is on family-fun and skill building: David Nam will be performing bike repair demonstrations at 1:30 and 2:30! \nFor the latest info and updates on the schedule\, visit montgomerycountygreenfest.org. Add GreenFest to your calendar: bit.ly/GreenFest2017 \n
URL:http://happyjoyousandfreewheeling.org/index.php/event/montgomery-county-green-fest-may-6th/
LOCATION:Bohrer Park\, 506 South Frederick Ave\, Gaithersburg\, MD\, 20877\, United States
GEO:39.1334129;-77.1949515
X-APPLE-STRUCTURED-LOCATION;VALUE=URI;X-ADDRESS=Bohrer Park 506 South Frederick Ave Gaithersburg MD 20877 United States;X-APPLE-RADIUS=500;X-TITLE=506 South Frederick Ave:geo:-77.1949515,39.1334129
END:VEVENT
END:VCALENDAR